BEGIN:VCALENDAR
VERSION:2.0
PRODID:-//Tauchclub Leverkusen e.V. - ECPv6.15.20//NONSGML v1.0//EN
CALSCALE:GREGORIAN
METHOD:PUBLISH
X-ORIGINAL-URL:https://tauchclubleverkusen.de
X-WR-CALDESC:Veranstaltungen für Tauchclub Leverkusen e.V.
REFRESH-INTERVAL;VALUE=DURATION:PT1H
X-Robots-Tag:noindex
X-PUBLISHED-TTL:PT1H
BEGIN:VTIMEZONE
TZID:Europe/Paris
BEGIN:DAYLIGHT
TZOFFSETFROM:+0100
TZOFFSETTO:+0200
TZNAME:CEST
DTSTART:20250330T010000
END:DAYLIGHT
BEGIN:STANDARD
TZOFFSETFROM:+0200
TZOFFSETTO:+0100
TZNAME:CET
DTSTART:20251026T010000
END:STANDARD
BEGIN:DAYLIGHT
TZOFFSETFROM:+0100
TZOFFSETTO:+0200
TZNAME:CEST
DTSTART:20260329T010000
END:DAYLIGHT
BEGIN:STANDARD
TZOFFSETFROM:+0200
TZOFFSETTO:+0100
TZNAME:CET
DTSTART:20261025T010000
END:STANDARD
BEGIN:DAYLIGHT
TZOFFSETFROM:+0100
TZOFFSETTO:+0200
TZNAME:CEST
DTSTART:20270328T010000
END:DAYLIGHT
BEGIN:STANDARD
TZOFFSETFROM:+0200
TZOFFSETTO:+0100
TZNAME:CET
DTSTART:20271031T010000
END:STANDARD
END:VTIMEZONE
BEGIN:VEVENT
DTSTART;TZID=Europe/Paris:20260227T180000
DTEND;TZID=Europe/Paris:20260227T210000
DTSTAMP:20260425T184031
CREATED:20251122T083314Z
LAST-MODIFIED:20251122T083314Z
UID:1762-1772215200-1772226000@tauchclubleverkusen.de
SUMMARY:Mitgliederversammlung 2026
DESCRIPTION:
URL:https://tauchclubleverkusen.de/event/mitgliederversammlung-2026/
LOCATION:DRK Altentagesstätte Bergisch Neukirchen\, Burscheider Str. 178\, Leverkusen\, NRW\, 51381\, Germany
END:VEVENT
END:VCALENDAR